<VRTDataset rasterXSize="4309" rasterYSize="6646">
  <SRS dataAxisToSRSAxisMapping="1,2">PROJCS["ETRS89 / TM35FIN(E,N)",GEOGCS["ETRS89",DATUM["European_Terrestrial_Reference_System_1989",SPHEROID["GRS 1980",6378137,298.257222101,AUTHORITY["EPSG","7019"]],AUTHORITY["EPSG","6258"]],PRIMEM["Greenwich",0,AUTHORITY["EPSG","8901"]],UNIT["degree",0.0174532925199433,AUTHORITY["EPSG","9122"]],AUTHORITY["EPSG","4258"]],PROJECTION["Transverse_Mercator"],PARAMETER["latitude_of_origin",0],PARAMETER["central_meridian",27],PARAMETER["scale_factor",0.9996],PARAMETER["false_easting",500000],PARAMETER["false_northing",0],UNIT["metre",1,AUTHORITY["EPSG","9001"]],AXIS["Easting",EAST],AXIS["Northing",NORTH],AUTHORITY["EPSG","3067"]]</SRS>
  <GeoTransform>  3.8129600000000000e+05,  1.6000000000000000e+01,  0.0000000000000000e+00,  7.3829760000000000e+06,  0.0000000000000000e+00, -1.6000000000000000e+01</GeoTransform>
  <VRTRasterBand dataType="UInt16" band="1">
    <NoDataValue>32767</NoDataValue>
    <ColorInterp>Gray</ColorInterp>
    <ComplexSource>
      <SourceFilename relativeToVRT="1">mvmi/latvuspeitto_kemi.tif</SourceFilename>
      <SourceBand>1</SourceBand>
      <SourceProperties RasterXSize="875" RasterYSize="875" DataType="UInt16" BlockXSize="875" BlockYSize="4" />
      <SrcRect xOff="0" yOff="0" xSize="875" ySize="875" />
      <DstRect xOff="0" yOff="5205" xSize="875" ySize="875" />
      <NODATA>32767</NODATA>
    </ComplexSource>
    <ComplexSource>
      <SourceFilename relativeToVRT="1">mvmi/latvuspeitto_rovaniemi.tif</SourceFilename>
      <SourceBand>1</SourceBand>
      <SourceProperties RasterXSize="875" RasterYSize="875" DataType="UInt16" BlockXSize="875" BlockYSize="4" />
      <SrcRect xOff="0" yOff="0" xSize="875" ySize="875" />
      <DstRect xOff="3434" yOff="0" xSize="875" ySize="875" />
      <NODATA>32767</NODATA>
    </ComplexSource>
    <ComplexSource>
      <SourceFilename relativeToVRT="1">mvmi/latvuspeitto_simo.tif</SourceFilename>
      <SourceBand>1</SourceBand>
      <SourceProperties RasterXSize="875" RasterYSize="875" DataType="UInt16" BlockXSize="875" BlockYSize="4" />
      <SrcRect xOff="0" yOff="0" xSize="875" ySize="875" />
      <DstRect xOff="1427" yOff="5771" xSize="875" ySize="875" />
      <NODATA>32767</NODATA>
    </ComplexSource>
  </VRTRasterBand>
</VRTDataset>
