<VRTDataset rasterXSize="36000" rasterYSize="57000">
  <SRS dataAxisToSRSAxisMapping="1,2">PROJCS["ETRS89 / TM35FIN(E,N)",GEOGCS["ETRS89",DATUM["European_Terrestrial_Reference_System_1989",SPHEROID["GRS 1980",6378137,298.257222101,AUTHORITY["EPSG","7019"]],AUTHORITY["EPSG","6258"]],PRIMEM["Greenwich",0,AUTHORITY["EPSG","8901"]],UNIT["degree",0.0174532925199433,AUTHORITY["EPSG","9122"]],AUTHORITY["EPSG","4258"]],PROJECTION["Transverse_Mercator"],PARAMETER["latitude_of_origin",0],PARAMETER["central_meridian",27],PARAMETER["scale_factor",0.9996],PARAMETER["false_easting",500000],PARAMETER["false_northing",0],UNIT["metre",1,AUTHORITY["EPSG","9001"]],AXIS["Easting",EAST],AXIS["Northing",NORTH],AUTHORITY["EPSG","3067"]]</SRS>
  <GeoTransform>  3.8000000000000000e+05,  2.0000000000000000e+00,  0.0000000000000000e+00,  7.3860000000000000e+06,  0.0000000000000000e+00, -2.0000000000000000e+00</GeoTransform>
  <VRTRasterBand dataType="Float32" band="1">
    <NoDataValue>-9999</NoDataValue>
    <ColorInterp>Gray</ColorInterp>
    <ComplexSource>
      <SourceFilename relativeToVRT="1">dem/S4144B.tif</SourceFilename>
      <SourceBand>1</SourceBand>
      <SourceProperties RasterXSize="3000" RasterYSize="3000" DataType="Float32" BlockXSize="256" BlockYSize="256" />
      <SrcRect xOff="0" yOff="0" xSize="3000" ySize="3000" />
      <DstRect xOff="0" yOff="48000" xSize="3000" ySize="3000" />
      <NODATA>-9999</NODATA>
    </ComplexSource>
    <ComplexSource>
      <SourceFilename relativeToVRT="1">dem/S4144D.tif</SourceFilename>
      <SourceBand>1</SourceBand>
      <SourceProperties RasterXSize="3000" RasterYSize="3000" DataType="Float32" BlockXSize="256" BlockYSize="256" />
      <SrcRect xOff="0" yOff="0" xSize="3000" ySize="3000" />
      <DstRect xOff="3000" yOff="48000" xSize="3000" ySize="3000" />
      <NODATA>-9999</NODATA>
    </ComplexSource>
    <ComplexSource>
      <SourceFilename relativeToVRT="1">dem/S4144F.tif</SourceFilename>
      <SourceBand>1</SourceBand>
      <SourceProperties RasterXSize="3000" RasterYSize="3000" DataType="Float32" BlockXSize="256" BlockYSize="256" />
      <SrcRect xOff="0" yOff="0" xSize="3000" ySize="3000" />
      <DstRect xOff="6000" yOff="48000" xSize="3000" ySize="3000" />
      <NODATA>-9999</NODATA>
    </ComplexSource>
    <ComplexSource>
      <SourceFilename relativeToVRT="1">dem/S4233A.tif</SourceFilename>
      <SourceBand>1</SourceBand>
      <SourceProperties RasterXSize="3000" RasterYSize="3000" DataType="Float32" BlockXSize="256" BlockYSize="256" />
      <SrcRect xOff="0" yOff="0" xSize="3000" ySize="3000" />
      <DstRect xOff="0" yOff="45000" xSize="3000" ySize="3000" />
      <NODATA>-9999</NODATA>
    </ComplexSource>
    <ComplexSource>
      <SourceFilename relativeToVRT="1">dem/S4233B.tif</SourceFilename>
      <SourceBand>1</SourceBand>
      <SourceProperties RasterXSize="3000" RasterYSize="3000" DataType="Float32" BlockXSize="256" BlockYSize="256" />
      <SrcRect xOff="0" yOff="0" xSize="3000" ySize="3000" />
      <DstRect xOff="0" yOff="42000" xSize="3000" ySize="3000" />
      <NODATA>-9999</NODATA>
    </ComplexSource>
    <ComplexSource>
      <SourceFilename relativeToVRT="1">dem/S4233C.tif</SourceFilename>
      <SourceBand>1</SourceBand>
      <SourceProperties RasterXSize="3000" RasterYSize="3000" DataType="Float32" BlockXSize="256" BlockYSize="256" />
      <SrcRect xOff="0" yOff="0" xSize="3000" ySize="3000" />
      <DstRect xOff="3000" yOff="45000" xSize="3000" ySize="3000" />
      <NODATA>-9999</NODATA>
    </ComplexSource>
    <ComplexSource>
      <SourceFilename relativeToVRT="1">dem/S4233D.tif</SourceFilename>
      <SourceBand>1</SourceBand>
      <SourceProperties RasterXSize="3000" RasterYSize="3000" DataType="Float32" BlockXSize="256" BlockYSize="256" />
      <SrcRect xOff="0" yOff="0" xSize="3000" ySize="3000" />
      <DstRect xOff="3000" yOff="42000" xSize="3000" ySize="3000" />
      <NODATA>-9999</NODATA>
    </ComplexSource>
    <ComplexSource>
      <SourceFilename relativeToVRT="1">dem/S4233E.tif</SourceFilename>
      <SourceBand>1</SourceBand>
      <SourceProperties RasterXSize="3000" RasterYSize="3000" DataType="Float32" BlockXSize="256" BlockYSize="256" />
      <SrcRect xOff="0" yOff="0" xSize="3000" ySize="3000" />
      <DstRect xOff="6000" yOff="45000" xSize="3000" ySize="3000" />
      <NODATA>-9999</NODATA>
    </ComplexSource>
    <ComplexSource>
      <SourceFilename relativeToVRT="1">dem/S4233F.tif</SourceFilename>
      <SourceBand>1</SourceBand>
      <SourceProperties RasterXSize="3000" RasterYSize="3000" DataType="Float32" BlockXSize="256" BlockYSize="256" />
      <SrcRect xOff="0" yOff="0" xSize="3000" ySize="3000" />
      <DstRect xOff="6000" yOff="42000" xSize="3000" ySize="3000" />
      <NODATA>-9999</NODATA>
    </ComplexSource>
    <ComplexSource>
      <SourceFilename relativeToVRT="1">dem/S4321B.tif</SourceFilename>
      <SourceBand>1</SourceBand>
      <SourceProperties RasterXSize="3000" RasterYSize="3000" DataType="Float32" BlockXSize="256" BlockYSize="256" />
      <SrcRect xOff="0" yOff="0" xSize="3000" ySize="3000" />
      <DstRect xOff="12000" yOff="54000" xSize="3000" ySize="3000" />
      <NODATA>-9999</NODATA>
    </ComplexSource>
    <ComplexSource>
      <SourceFilename relativeToVRT="1">dem/S4321D.tif</SourceFilename>
      <SourceBand>1</SourceBand>
      <SourceProperties RasterXSize="3000" RasterYSize="3000" DataType="Float32" BlockXSize="256" BlockYSize="256" />
      <SrcRect xOff="0" yOff="0" xSize="3000" ySize="3000" />
      <DstRect xOff="15000" yOff="54000" xSize="3000" ySize="3000" />
      <NODATA>-9999</NODATA>
    </ComplexSource>
    <ComplexSource>
      <SourceFilename relativeToVRT="1">dem/S4321F.tif</SourceFilename>
      <SourceBand>1</SourceBand>
      <SourceProperties RasterXSize="3000" RasterYSize="3000" DataType="Float32" BlockXSize="256" BlockYSize="256" />
      <SrcRect xOff="0" yOff="0" xSize="3000" ySize="3000" />
      <DstRect xOff="18000" yOff="54000" xSize="3000" ySize="3000" />
      <NODATA>-9999</NODATA>
    </ComplexSource>
    <ComplexSource>
      <SourceFilename relativeToVRT="1">dem/S4322A.tif</SourceFilename>
      <SourceBand>1</SourceBand>
      <SourceProperties RasterXSize="3000" RasterYSize="3000" DataType="Float32" BlockXSize="256" BlockYSize="256" />
      <SrcRect xOff="0" yOff="0" xSize="3000" ySize="3000" />
      <DstRect xOff="12000" yOff="51000" xSize="3000" ySize="3000" />
      <NODATA>-9999</NODATA>
    </ComplexSource>
    <ComplexSource>
      <SourceFilename relativeToVRT="1">dem/S4322B.tif</SourceFilename>
      <SourceBand>1</SourceBand>
      <SourceProperties RasterXSize="3000" RasterYSize="3000" DataType="Float32" BlockXSize="256" BlockYSize="256" />
      <SrcRect xOff="0" yOff="0" xSize="3000" ySize="3000" />
      <DstRect xOff="12000" yOff="48000" xSize="3000" ySize="3000" />
      <NODATA>-9999</NODATA>
    </ComplexSource>
    <ComplexSource>
      <SourceFilename relativeToVRT="1">dem/S4322C.tif</SourceFilename>
      <SourceBand>1</SourceBand>
      <SourceProperties RasterXSize="3000" RasterYSize="3000" DataType="Float32" BlockXSize="256" BlockYSize="256" />
      <SrcRect xOff="0" yOff="0" xSize="3000" ySize="3000" />
      <DstRect xOff="15000" yOff="51000" xSize="3000" ySize="3000" />
      <NODATA>-9999</NODATA>
    </ComplexSource>
    <ComplexSource>
      <SourceFilename relativeToVRT="1">dem/S4322D.tif</SourceFilename>
      <SourceBand>1</SourceBand>
      <SourceProperties RasterXSize="3000" RasterYSize="3000" DataType="Float32" BlockXSize="256" BlockYSize="256" />
      <SrcRect xOff="0" yOff="0" xSize="3000" ySize="3000" />
      <DstRect xOff="15000" yOff="48000" xSize="3000" ySize="3000" />
      <NODATA>-9999</NODATA>
    </ComplexSource>
    <ComplexSource>
      <SourceFilename relativeToVRT="1">dem/S4322E.tif</SourceFilename>
      <SourceBand>1</SourceBand>
      <SourceProperties RasterXSize="3000" RasterYSize="3000" DataType="Float32" BlockXSize="256" BlockYSize="256" />
      <SrcRect xOff="0" yOff="0" xSize="3000" ySize="3000" />
      <DstRect xOff="18000" yOff="51000" xSize="3000" ySize="3000" />
      <NODATA>-9999</NODATA>
    </ComplexSource>
    <ComplexSource>
      <SourceFilename relativeToVRT="1">dem/S4322F.tif</SourceFilename>
      <SourceBand>1</SourceBand>
      <SourceProperties RasterXSize="3000" RasterYSize="3000" DataType="Float32" BlockXSize="256" BlockYSize="256" />
      <SrcRect xOff="0" yOff="0" xSize="3000" ySize="3000" />
      <DstRect xOff="18000" yOff="48000" xSize="3000" ySize="3000" />
      <NODATA>-9999</NODATA>
    </ComplexSource>
    <ComplexSource>
      <SourceFilename relativeToVRT="1">dem/T4323D.tif</SourceFilename>
      <SourceBand>1</SourceBand>
      <SourceProperties RasterXSize="3000" RasterYSize="3000" DataType="Float32" BlockXSize="256" BlockYSize="256" />
      <SrcRect xOff="0" yOff="0" xSize="3000" ySize="3000" />
      <DstRect xOff="27000" yOff="6000" xSize="3000" ySize="3000" />
      <NODATA>-9999</NODATA>
    </ComplexSource>
    <ComplexSource>
      <SourceFilename relativeToVRT="1">dem/T4323F.tif</SourceFilename>
      <SourceBand>1</SourceBand>
      <SourceProperties RasterXSize="3000" RasterYSize="3000" DataType="Float32" BlockXSize="256" BlockYSize="256" />
      <SrcRect xOff="0" yOff="0" xSize="3000" ySize="3000" />
      <DstRect xOff="30000" yOff="6000" xSize="3000" ySize="3000" />
      <NODATA>-9999</NODATA>
    </ComplexSource>
    <ComplexSource>
      <SourceFilename relativeToVRT="1">dem/T4323H.tif</SourceFilename>
      <SourceBand>1</SourceBand>
      <SourceProperties RasterXSize="3000" RasterYSize="3000" DataType="Float32" BlockXSize="256" BlockYSize="256" />
      <SrcRect xOff="0" yOff="0" xSize="3000" ySize="3000" />
      <DstRect xOff="33000" yOff="6000" xSize="3000" ySize="3000" />
      <NODATA>-9999</NODATA>
    </ComplexSource>
    <ComplexSource>
      <SourceFilename relativeToVRT="1">dem/T4324C.tif</SourceFilename>
      <SourceBand>1</SourceBand>
      <SourceProperties RasterXSize="3000" RasterYSize="3000" DataType="Float32" BlockXSize="256" BlockYSize="256" />
      <SrcRect xOff="0" yOff="0" xSize="3000" ySize="3000" />
      <DstRect xOff="27000" yOff="3000" xSize="3000" ySize="3000" />
      <NODATA>-9999</NODATA>
    </ComplexSource>
    <ComplexSource>
      <SourceFilename relativeToVRT="1">dem/T4324D.tif</SourceFilename>
      <SourceBand>1</SourceBand>
      <SourceProperties RasterXSize="3000" RasterYSize="3000" DataType="Float32" BlockXSize="256" BlockYSize="256" />
      <SrcRect xOff="0" yOff="0" xSize="3000" ySize="3000" />
      <DstRect xOff="27000" yOff="0" xSize="3000" ySize="3000" />
      <NODATA>-9999</NODATA>
    </ComplexSource>
    <ComplexSource>
      <SourceFilename relativeToVRT="1">dem/T4324E.tif</SourceFilename>
      <SourceBand>1</SourceBand>
      <SourceProperties RasterXSize="3000" RasterYSize="3000" DataType="Float32" BlockXSize="256" BlockYSize="256" />
      <SrcRect xOff="0" yOff="0" xSize="3000" ySize="3000" />
      <DstRect xOff="30000" yOff="3000" xSize="3000" ySize="3000" />
      <NODATA>-9999</NODATA>
    </ComplexSource>
    <ComplexSource>
      <SourceFilename relativeToVRT="1">dem/T4324F.tif</SourceFilename>
      <SourceBand>1</SourceBand>
      <SourceProperties RasterXSize="3000" RasterYSize="3000" DataType="Float32" BlockXSize="256" BlockYSize="256" />
      <SrcRect xOff="0" yOff="0" xSize="3000" ySize="3000" />
      <DstRect xOff="30000" yOff="0" xSize="3000" ySize="3000" />
      <NODATA>-9999</NODATA>
    </ComplexSource>
    <ComplexSource>
      <SourceFilename relativeToVRT="1">dem/T4324G.tif</SourceFilename>
      <SourceBand>1</SourceBand>
      <SourceProperties RasterXSize="3000" RasterYSize="3000" DataType="Float32" BlockXSize="256" BlockYSize="256" />
      <SrcRect xOff="0" yOff="0" xSize="3000" ySize="3000" />
      <DstRect xOff="33000" yOff="3000" xSize="3000" ySize="3000" />
      <NODATA>-9999</NODATA>
    </ComplexSource>
    <ComplexSource>
      <SourceFilename relativeToVRT="1">dem/T4324H.tif</SourceFilename>
      <SourceBand>1</SourceBand>
      <SourceProperties RasterXSize="3000" RasterYSize="3000" DataType="Float32" BlockXSize="256" BlockYSize="256" />
      <SrcRect xOff="0" yOff="0" xSize="3000" ySize="3000" />
      <DstRect xOff="33000" yOff="0" xSize="3000" ySize="3000" />
      <NODATA>-9999</NODATA>
    </ComplexSource>
  </VRTRasterBand>
</VRTDataset>
