<VRTDataset rasterXSize="1000" rasterYSize="1000">
  <SRS dataAxisToSRSAxisMapping="1,2">PROJCS["ETRS89 / TM35FIN(E,N)",GEOGCS["ETRS89",DATUM["European_Terrestrial_Reference_System_1989",SPHEROID["GRS 1980",6378137,298.257222101,AUTHORITY["EPSG","7019"]],AUTHORITY["EPSG","6258"]],PRIMEM["Greenwich",0,AUTHORITY["EPSG","8901"]],UNIT["degree",0.0174532925199433,AUTHORITY["EPSG","9122"]],AUTHORITY["EPSG","4258"]],PROJECTION["Transverse_Mercator"],PARAMETER["latitude_of_origin",0],PARAMETER["central_meridian",27],PARAMETER["scale_factor",0.9996],PARAMETER["false_easting",500000],PARAMETER["false_northing",0],UNIT["metre",1,AUTHORITY["EPSG","9001"]],AXIS["Easting",EAST],AXIS["Northing",NORTH],AUTHORITY["EPSG","3067"]]</SRS>
  <GeoTransform>  6.4000000000000000e+05,  2.0000000000000000e+00,  0.0000000000000000e+00,  7.0030000000000000e+06,  0.0000000000000000e+00, -2.0000000000000000e+00</GeoTransform>
  <VRTRasterBand dataType="Float32" band="1">
    <NoDataValue>-9999</NoDataValue>
    <ColorInterp>Gray</ColorInterp>
    <ComplexSource>
      <SourceFilename relativeToVRT="1">synth.tif</SourceFilename>
      <SourceBand>1</SourceBand>
      <SourceProperties RasterXSize="1000" RasterYSize="1000" DataType="Float32" BlockXSize="1000" BlockYSize="2" />
      <SrcRect xOff="0" yOff="0" xSize="1000" ySize="1000" />
      <DstRect xOff="0" yOff="0" xSize="1000" ySize="1000" />
      <NODATA>-9999</NODATA>
    </ComplexSource>
  </VRTRasterBand>
</VRTDataset>
